BEGIN:VCALENDAR
VERSION:2.0
PRODID:-//ChamberMaster//Event Calendar 2.0//EN
METHOD:PUBLISH
X-PUBLISHED-TTL:P3D
REFRESH-INTERVAL:P3D
CALSCALE:GREGORIAN
BEGIN:VEVENT
DTSTART:20191019T010000Z
DTEND:20191019T040000Z
X-MICROSOFT-CDO-ALLDAYEVENT:FALSE
SUMMARY:11th Annual Taste of the Town
DESCRIPTION:ONLINE TICKET SALES ARE NOW CLOSED HOWEVER TICKETS CAN STILL BE PURCHASED AT THE EVENT\n\n\n\nThe Montebello Chamber of Commerce presents its\n\n11th Annual Taste of the Town\n\n\n\nDiscover local restaurants\, bakeries\, wineries\, breweries and more at this indoor event at the elegant Bagramian Hall.  Eat and drink your fill with one admission ticket\, enter to win great raffle prizes\, enjoy live DJ music! \n\n\n\nParticipating Food & Beverage Businesses:\n\n\n\nAngry Horse Brewing\n\nApril's Cakes\n\nBJ's Pizzeria\n\nBrioche Pastries\n\nBurgerim\n\nCafe Santo\n\nCalifornia Gill\n\nCatering by Herach & Ara\n\nClearman's Steak N Stein\n\nDon Nacho Tequila\n\nDoubleTree by Hilton Los Angeles - Rosemead\n\nHC Armenian Mediterranean Restaurant\n\nIsland Style Catering\n\nLa Bufadora Baja Grill\n\nMarin Cafe\n\nNothing Bundt Cakes\n\nOlive Garden\n\nPolly's Pies\n\nPRP Wine International\n\nQuiet Cannon\n\nSalvatore Italian Restaurant\n\nSan Antonio Winery\n\nSteven's Steak & Seafood House\n\nTortilleria La Imperial\n\nXecora Gastronomia Urbana\n\n...and more to come!
X-ALT-DESC;FMTTYPE=text/html:<span style="font-size:16px\;"><span style="color:#FF0000\;"><strong>ONLINE TICKET SALES ARE NOW CLOSED HOWEVER TICKETS CAN STILL BE PURCHASED AT THE EVENT</strong></span></span><br />\n<br />\nThe Montebello Chamber of Commerce presents its<br />\n11th Annual Taste of the Town<br />\n<br />\nDiscover local restaurants\, bakeries\, wineries\, breweries and more at this indoor event at the elegant Bagramian Hall.&nbsp\; Eat and drink your fill with one admission ticket\, enter to win great raffle prizes\, enjoy live DJ music!&nbsp\;<br />\n<br />\n<strong><u>Participating Food &amp\; Beverage Businesses:</u></strong><br />\n<br />\nAngry Horse Brewing<br />\nApril&#39\;s Cakes<br />\nBJ&#39\;s Pizzeria<br />\nBrioche Pastries<br />\nBurgerim<br />\nCafe Santo<br />\nCalifornia Gill<br />\nCatering by Herach &amp\; Ara<br />\nClearman&#39\;s Steak N Stein<br />\nDon Nacho Tequila<br />\nDoubleTree by Hilton Los Angeles - Rosemead<br />\nHC Armenian Mediterranean Restaurant<br />\nIsland Style Catering<br />\nLa Bufadora Baja Grill<br />\nMarin Cafe<br />\nNothing Bundt Cakes<br />\nOlive Garden<br />\nPolly&#39\;s Pies<br />\nPRP Wine International<br />\nQuiet Cannon<br />\nSalvatore Italian Restaurant<br />\nSan Antonio Winery<br />\nSteven&#39\;s Steak &amp\; Seafood House<br />\nTortilleria La Imperial<br />\nXecora Gastronomia Urbana<br />\n<em>...and more to come!</em><br />\n&nbsp\;
LOCATION:Bagramian Hall (adjacent to Holy Cross Cathedral) 900 W. Lincoln Avenue Montebello\, CA 90640
UID:e.1156.3366
SEQUENCE:3
DTSTAMP:20260422T130352Z
URL:https://business.montebellochamber.org/events/details/11th-annual-taste-of-the-town-3366
END:VEVENT

END:VCALENDAR
