BEGIN:VCALENDAR
VERSION:2.0
PRODID:-//ChamberMaster//Event Calendar 2.0//EN
METHOD:PUBLISH
X-PUBLISHED-TTL:P3D
REFRESH-INTERVAL:P3D
CALSCALE:GREGORIAN
BEGIN:VEVENT
DTSTART:20160407T220000Z
DTEND:20160408T020000Z
X-MICROSOFT-CDO-ALLDAYEVENT:FALSE
SUMMARY:2016 - 04/7/16 Business Expo
DESCRIPTION:2016 Business Expo\n\nTheme "Put Your BUSINESS in the SPOTLIGHT"\n\nCommunity & Business Event!
X-ALT-DESC;FMTTYPE=text/html:<strong>2016 Business Expo<br />\nTheme &quot\;Put Your&nbsp\;BUSINESS in the SPOTLIGHT&quot\;<br />\nCommunity &amp\; Business Event!&nbsp\; </strong>
LOCATION:The Quiet Cannon 901 Via San Clemente Montebello\, CA 90640
UID:e.1156.1448
SEQUENCE:3
DTSTAMP:20260419T225949Z
URL:https://business.montebellochamber.org/events/details/2016-04-7-16-business-expo-1448
END:VEVENT

END:VCALENDAR
