BEGIN:VCALENDAR
VERSION:2.0
PRODID:-//ChamberMaster//Event Calendar 2.0//EN
METHOD:PUBLISH
X-PUBLISHED-TTL:P3D
REFRESH-INTERVAL:P3D
CALSCALE:GREGORIAN
BEGIN:VEVENT
DTSTART:20160506T140000Z
DTEND:20160506T230000Z
X-MICROSOFT-CDO-ALLDAYEVENT:FALSE
SUMMARY:2016 - 05/6/16 34th Annual SYEP Golf Tournament
DESCRIPTION:Join us in continuing the legacy of growing experienced and capable future leaders partnering with us to support the 34th Annual Summer Youth Employment Program Golf Tournament.  Sponsors are recognized through advertisement on promotional golf tournament literature. Attached is a sponsor form outlining how you can support our efforts. Help us reach our goal of employing 80 SYEP participants this summer!  \n\n \n\nPartner with us to support the 34th Annual SYEP Golf Tournament which is scheduled for Friday\, May 6\, 2016 at the Montebello Country Club.  \n\n \n\nWe look forward to hearing from you.  Should you have any questions\, please contact Janine Andrade\, Tournament Chairperson\, at (323) 887-4556.
X-ALT-DESC;FMTTYPE=text/html:<span style="font-family: tahoma\,sans-serif\;"><span style="font-size: 11pt\;">Join us in continuing the legacy of growing experienced and capable future leaders partnering with us to support the <strong>34<sup>th</sup> Annual</strong></span></span><strong><span style="font-family: tahoma\,sans-serif\;"><span style="font-size: 11pt\;"> Summer Youth Employment Program Golf Tournament.</span></span></strong><span style="font-family: tahoma\,sans-serif\;"><span style="font-size: 11pt\;"> &nbsp\;Sponsors are recognized through advertisement on promotional golf tournament literature. Attached is a sponsor form outlining how you can support our efforts. Help us reach our goal of employing 80 <strong>SYEP</strong> participants this summer!&nbsp\; </span></span><br />\n&nbsp\;<br />\n<strong><span style="font-family: tahoma\,sans-serif\;"><span style="font-size: 11pt\;">Partner with us to support the 34<sup>th</sup> Annual SYEP Golf Tournament which is scheduled for Friday\, May 6\, 2016 at the Montebello Country Club.&nbsp\; </span></span></strong><br />\n&nbsp\;<br />\n<span style="font-family: tahoma\,sans-serif\;"><span style="font-size: 11pt\;">We look forward to hearing from you.&nbsp\; Should you have any questions\, please contact Janine Andrade\, Tournament Chairperson\, at (323) 887-4556.</span></span><br />\n&nbsp\;
LOCATION:901 Via San Clemente\, Montebello
UID:e.1156.1473
SEQUENCE:3
DTSTAMP:20260419T231518Z
URL:https://business.montebellochamber.org/events/details/2016-05-6-16-34th-annual-syep-golf-tournament-1473
END:VEVENT

END:VCALENDAR
