BEGIN:VCALENDAR
VERSION:2.0
PRODID:-//ChamberMaster//Event Calendar 2.0//EN
METHOD:PUBLISH
X-PUBLISHED-TTL:P3D
REFRESH-INTERVAL:P3D
CALSCALE:GREGORIAN
BEGIN:VEVENT
DTSTART:20160603T010000Z
DTEND:20160603T050000Z
X-MICROSOFT-CDO-ALLDAYEVENT:FALSE
SUMMARY:2016 - 06/2/16 104th Installation Dinner & Shining Star Awards
DESCRIPTION:Montebello Chamber of Commerce\n\n104th Annual Installation Dinner and Shining Star Awards
X-ALT-DESC;FMTTYPE=text/html:Montebello Chamber of Commerce<br />\n104th Annual Installation Dinner and Shining Star Awards
LOCATION:Quiet Cannon Montebello 901 Via San Clemente Montebello\, CA 90640
UID:e.1156.1476
SEQUENCE:3
DTSTAMP:20260420T004641Z
URL:https://business.montebellochamber.org/events/details/2016-06-2-16-104th-installation-dinner-shining-star-awards-1476
END:VEVENT

END:VCALENDAR
