BEGIN:VCALENDAR
VERSION:2.0
PRODID:-//ChamberMaster//Event Calendar 2.0//EN
METHOD:PUBLISH
X-PUBLISHED-TTL:P3D
REFRESH-INTERVAL:P3D
CALSCALE:GREGORIAN
BEGIN:VEVENT
DTSTART:20161021T003000Z
DTEND:20161021T023000Z
X-MICROSOFT-CDO-ALLDAYEVENT:FALSE
SUMMARY:2016 - 10/20/16 Halloween Mixer - Risher Mortuary & Cremation Service
DESCRIPTION:Halloween Mixer! \n\nCome and join us for some spooktacular fun at\n\nRisher Mortuary and Cremation Service's Annual Halloween Mixer.\n\nCostumes are optional!  Costume Contest!\n\nFood - Drinks - Networking - Costumes!
X-ALT-DESC;FMTTYPE=text/html:<strong>Halloween Mixer!&nbsp\;</strong><br />\nCome and join us for some spooktacular&nbsp\;fun at<br />\nRisher Mortuary and Cremation Service&#39\;s Annual Halloween Mixer.<br />\nCostumes are optional! &nbsp\;Costume Contest!<br />\n<strong><span style="color:#FF8C00\;">Food - Drinks - Networking - Costumes!</span></strong><br />\n<br />\n&nbsp\;
LOCATION:Risher Mortuary and Cremation Service 1316 W. Whittier Blvd. Montebello\, CA 90640 (323)728-1261
UID:e.1156.1503
SEQUENCE:3
DTSTAMP:20260420T063633Z
URL:https://business.montebellochamber.org/events/details/2016-10-20-16-halloween-mixer-risher-mortuary-cremation-service-1503
END:VEVENT

END:VCALENDAR
