BEGIN:VCALENDAR
VERSION:2.0
PRODID:-//ChamberMaster//Event Calendar 2.0//EN
METHOD:PUBLISH
X-PUBLISHED-TTL:P3D
REFRESH-INTERVAL:P3D
CALSCALE:GREGORIAN
BEGIN:VEVENT
DTSTART:20161007T190000Z
DTEND:20161007T210000Z
X-MICROSOFT-CDO-ALLDAYEVENT:FALSE
SUMMARY:2016 - 10/7/2016 Cash Mob HYE Cuisine
DESCRIPTION:Ca$h Mob Friday!\n\nMenu: Hummos\, Greek Salad\, Yogurt with Cucumbers\, Bean Salad\, Chicken Kabob\, Beef Kabob\, Chicken Lule Kabob\, Beef Lule Kabob\, Armenian Rice Pilaf\, Armenian Style Potatoes\, Sauteed Spinach\, Pita Bread\, Soda.
X-ALT-DESC;FMTTYPE=text/html:Ca$h Mob Friday!<br />\nMenu: Hummos\, Greek Salad\, Yogurt with Cucumbers\, Bean Salad\, Chicken Kabob\, Beef Kabob\, Chicken Lule Kabob\, Beef Lule Kabob\, Armenian Rice Pilaf\, Armenian Style Potatoes\, Sauteed Spinach\, Pita Bread\, Soda.<br />\n&nbsp\;
LOCATION:HYE Cuisine 2110 W. Whittier Blvd. Montebello\, CA 90640
UID:e.1156.1507
SEQUENCE:3
DTSTAMP:20260420T063633Z
URL:https://business.montebellochamber.org/events/details/2016-10-7-2016-cash-mob-hye-cuisine-1507
END:VEVENT

END:VCALENDAR
