BEGIN:VCALENDAR
VERSION:2.0
PRODID:-//ChamberMaster//Event Calendar 2.0//EN
METHOD:PUBLISH
X-PUBLISHED-TTL:P3D
REFRESH-INTERVAL:P3D
CALSCALE:GREGORIAN
BEGIN:VEVENT
DTSTART;VALUE=DATE:20200629
DTEND;VALUE=DATE:20200630
TRANSP:TRANSPARENT
X-MICROSOFT-CDO-ALLDAYEVENT:TRUE
SUMMARY:4th of July Door Decor Contest Entry Deadline
DESCRIPTION:Show your Independence Day pride in the City of Montebello's Fourth of July Door Decor Contest!\n\n\n\nWinners in Each of the Following Categories will receive a $50 Visa Card:\n\n	Most Patriotic\n	Most Original\n	Staff Favorite\n\nWinners and special mentions will be shared on the City of Montebello's social media pages.  One entry per household.  Submit photos to parksservices@cityofmontebello.com.  Entries due by June 29\, 2020.
X-ALT-DESC;FMTTYPE=text/html:Show your Independence Day pride in the City of Montebello&#39\;s Fourth of July Door Decor Contest!<br />\n<br />\nWinners in Each of the Following Categories will receive a $50 Visa Card:\n<ul>\n	<li>Most Patriotic</li>\n	<li>Most Original</li>\n	<li>Staff Favorite</li>\n</ul>\nWinners and special mentions will be shared on the City of Montebello&#39\;s social media pages.&nbsp\; One entry per household.&nbsp\; Submit photos to parksservices@cityofmontebello.com.&nbsp\; Entries due by June 29\, 2020.<br />\n&nbsp\;
LOCATION:
UID:e.1156.3716
SEQUENCE:3
DTSTAMP:20260422T225020Z
URL:https://business.montebellochamber.org/events/details/4th-of-july-door-decor-contest-entry-deadline-3716
END:VEVENT

END:VCALENDAR
