BEGIN:VCALENDAR
VERSION:2.0
PRODID:-//ChamberMaster//Event Calendar 2.0//EN
METHOD:PUBLISH
X-PUBLISHED-TTL:P3D
REFRESH-INTERVAL:P3D
CALSCALE:GREGORIAN
BEGIN:VEVENT
DTSTART:20151107T030000Z
DTEND:20151107T053000Z
X-MICROSOFT-CDO-ALLDAYEVENT:FALSE
SUMMARY:7th Annual Taste of the Town
DESCRIPTION:7th Annual Taste of the Town\n\nValet Parking will be available.\n\nEntertainment Provided by: The Wiseguys and M.R. Entertainment
X-ALT-DESC;FMTTYPE=text/html:<strong>7th Annual Taste of the Town</strong><br />\nValet Parking will be available.<br />\nEntertainment Provided by: The Wiseguys and M.R. Entertainment
LOCATION:Holy Cross Armenian Apostolic Cathedral Bagramian Hall 700 Lincoln Ave. (Cross street Montebello Blvd.) Montebello\, CA 90640
UID:e.1156.1356
SEQUENCE:3
DTSTAMP:20260419T141400Z
URL:https://business.montebellochamber.org/events/details/7th-annual-taste-of-the-town-11-06-2015-1356
END:VEVENT

END:VCALENDAR
