BEGIN:VCALENDAR
VERSION:2.0
PRODID:-//ChamberMaster//Event Calendar 2.0//EN
METHOD:PUBLISH
X-PUBLISHED-TTL:P3D
REFRESH-INTERVAL:P3D
CALSCALE:GREGORIAN
BEGIN:VEVENT
DTSTART:20190911T233000Z
DTEND:20190912T003000Z
X-MICROSOFT-CDO-ALLDAYEVENT:FALSE
SUMMARY:9/11 Commemoration
DESCRIPTION:City of Montebello's\n\nRemembering 9/11 Walk & Commemorate Ceremony\n\n\n\nAll are invited to attend.
X-ALT-DESC;FMTTYPE=text/html:City of Montebello&#39\;s<br />\nRemembering 9/11 Walk &amp\; Commemorate Ceremony<br />\n<br />\nAll are invited to attend.&nbsp\;
LOCATION:Montebello City Hall 1600 W. Beverly Blvd. Montebello\, CA 90640 Walk begins at Acuna Park on Victoria Avenue to City Hall Main Entrance.
UID:e.1156.3429
SEQUENCE:3
DTSTAMP:20260422T101931Z
URL:https://business.montebellochamber.org/events/details/9-11-commemoration-3429
END:VEVENT

END:VCALENDAR
