BEGIN:VCALENDAR
VERSION:2.0
PRODID:-//ChamberMaster//Event Calendar 2.0//EN
METHOD:PUBLISH
X-PUBLISHED-TTL:P3D
REFRESH-INTERVAL:P3D
CALSCALE:GREGORIAN
BEGIN:VEVENT
DTSTART:20190317T053000Z
DTEND:20190317T053000Z
X-MICROSOFT-CDO-ALLDAYEVENT:FALSE
SUMMARY:AHB Fitness Club-Boot Camp Workout
DESCRIPTION:Join Angry Horse Fitness Club for another Boot Camp workout with Kristen Perez!! Kristin will be bringing you a fun and fresh boot camp\, focusing on exercises and techniques you can do anywhere.  All fitness levels and ages are welcome!
X-ALT-DESC;FMTTYPE=text/html:Join Angry Horse Fitness Club for another Boot Camp workout with Kristen Perez!! Kristin will be bringing you a fun and fresh boot camp\, focusing on exercises and techniques you can do anywhere.&nbsp\; All fitness levels and ages are welcome!&nbsp\;
LOCATION:Angry Horse Brewing 603 W. Whittier Blvd. Montebello\, CA 90640
UID:e.1156.3261
SEQUENCE:3
DTSTAMP:20260422T023644Z
URL:https://business.montebellochamber.org/events/details/ahb-fitness-club-boot-camp-workout-3261
END:VEVENT

END:VCALENDAR
