BEGIN:VCALENDAR
VERSION:2.0
PRODID:-//ChamberMaster//Event Calendar 2.0//EN
METHOD:PUBLISH
X-PUBLISHED-TTL:P3D
REFRESH-INTERVAL:P3D
CALSCALE:GREGORIAN
BEGIN:VEVENT
DTSTART:20190913T220000Z
DTEND:20190914T010000Z
X-MICROSOFT-CDO-ALLDAYEVENT:FALSE
SUMMARY:Allied Feather-White Sale-Open to the Public
DESCRIPTION:Allied Feather-White Sale-Open to the Public\n\n**Cash only and All Sales are Final (No Return or Exchange)
X-ALT-DESC;FMTTYPE=text/html:Allied Feather-White Sale-Open to the Public<br />\n**Cash only and All Sales are Final (No Return or Exchange)<br />\n&nbsp\;
LOCATION:6510 Bandini Blvd. (Lot located on Malt Street) Commerce\, CA 90040
UID:e.1156.3432
SEQUENCE:3
DTSTAMP:20260422T102408Z
URL:https://business.montebellochamber.org/events/details/allied-feather-white-sale-open-to-the-public-3432
END:VEVENT

END:VCALENDAR
