BEGIN:VCALENDAR
VERSION:2.0
PRODID:-//ChamberMaster//Event Calendar 2.0//EN
METHOD:PUBLISH
X-PUBLISHED-TTL:P3D
REFRESH-INTERVAL:P3D
CALSCALE:GREGORIAN
BEGIN:VEVENT
DTSTART:20200315T000000Z
DTEND:20200315T040000Z
X-MICROSOFT-CDO-ALLDAYEVENT:FALSE
SUMMARY:American Legion Post 272-St Patrick's Celebration
DESCRIPTION:American Legion Post 272 St Patrick's Celebration presents "Flash Back Cowboys" with a taste of Rock N' Roll and the Blues!
X-ALT-DESC;FMTTYPE=text/html:American Legion Post 272 St Patrick&#39\;s Celebration presents &quot\;Flash Back Cowboys&quot\; with a taste of Rock N&#39\; Roll and the Blues!&nbsp\;
LOCATION:American Legion Post 272 616 W. Cleveland Ave. Montebello\, CA 90640
UID:e.1156.3645
SEQUENCE:3
DTSTAMP:20260422T190150Z
URL:https://business.montebellochamber.org/events/details/american-legion-post-272-st-patrick-s-celebration-3645
END:VEVENT

END:VCALENDAR
