BEGIN:VCALENDAR
VERSION:2.0
PRODID:-//ChamberMaster//Event Calendar 2.0//EN
METHOD:PUBLISH
X-PUBLISHED-TTL:P3D
REFRESH-INTERVAL:P3D
CALSCALE:GREGORIAN
BEGIN:VEVENT
DTSTART:20200627T160000Z
DTEND:20200627T200000Z
X-MICROSOFT-CDO-ALLDAYEVENT:FALSE
SUMMARY:Andres Pina State Farm Agency-A Treat for the Youth
DESCRIPTION:Andres Pina State Farm Agency would like to give back to the community.  A Treat for the Youth\, bring your student ID or represent your school pride by wearing your schools official shirt or accessories and this will qualify you for a refreshing smoothie from Nevera Juice Bar compliments of State Farm Insurance Agency.
X-ALT-DESC;FMTTYPE=text/html:Andres Pina State Farm Agency would like to give back to the community.&nbsp\; A Treat for the Youth\, bring your student ID or represent your school pride by wearing your schools official shirt or accessories and this will qualify you for a refreshing smoothie from Nevera Juice Bar compliments of State Farm Insurance Agency.
LOCATION:Nevera Juice Bar 137 N. Montebello Blvd. Unit D Montebello\, CA 90640
UID:e.1156.3722
SEQUENCE:3
DTSTAMP:20260422T225202Z
URL:https://business.montebellochamber.org/events/details/andres-pina-state-farm-agency-a-treat-for-the-youth-3722
END:VEVENT

END:VCALENDAR
