BEGIN:VCALENDAR
VERSION:2.0
PRODID:-//ChamberMaster//Event Calendar 2.0//EN
METHOD:PUBLISH
X-PUBLISHED-TTL:P3D
REFRESH-INTERVAL:P3D
CALSCALE:GREGORIAN
BEGIN:VEVENT
DTSTART:20191006T010000Z
DTEND:20191006T033000Z
X-MICROSOFT-CDO-ALLDAYEVENT:FALSE
SUMMARY:Angry Horse Brewing Oktoberfest Beer Dinner
DESCRIPTION:Angry Horse Brewing presents Oktoberfest Beer Dinner! \n\nFive Beers\, Five Courses!  A Beer Pairing Event!
X-ALT-DESC;FMTTYPE=text/html:Angry Horse Brewing presents Oktoberfest Beer Dinner!&nbsp\;<br />\nFive Beers\, Five Courses!&nbsp\; A Beer Pairing Event!&nbsp\;
LOCATION:Angry Horse Brewing 603 W. Whittier Blvd. Montebello\, CA 90640
UID:e.1156.3454
SEQUENCE:3
DTSTAMP:20260422T130352Z
URL:https://business.montebellochamber.org/events/details/angry-horse-brewing-oktoberfest-beer-dinner-3454
END:VEVENT

END:VCALENDAR
