BEGIN:VCALENDAR
VERSION:2.0
PRODID:-//ChamberMaster//Event Calendar 2.0//EN
METHOD:PUBLISH
X-PUBLISHED-TTL:P3D
REFRESH-INTERVAL:P3D
CALSCALE:GREGORIAN
BEGIN:VEVENT
DTSTART:20191021T150000Z
DTEND:20191022T000000Z
X-MICROSOFT-CDO-ALLDAYEVENT:FALSE
SUMMARY:Annual Golf Classic - Beverly Foundation
DESCRIPTION:Proceeds to benefit Beverly's most critical patient care needs
X-ALT-DESC;FMTTYPE=text/html:Proceeds to benefit Beverly&#39\;s most critical patient care needs
LOCATION:Friendly Hills Country Club 8500 Villaverde Dr. Whittier\, CA 90605
UID:e.1156.3267
SEQUENCE:3
DTSTAMP:20260422T130030Z
URL:https://business.montebellochamber.org/events/details/annual-golf-classic-beverly-foundation-3267
END:VEVENT

END:VCALENDAR
