BEGIN:VCALENDAR
VERSION:2.0
PRODID:-//ChamberMaster//Event Calendar 2.0//EN
METHOD:PUBLISH
X-PUBLISHED-TTL:P3D
REFRESH-INTERVAL:P3D
CALSCALE:GREGORIAN
BEGIN:VEVENT
DTSTART:20200615T160000Z
DTEND:20200615T200000Z
X-MICROSOFT-CDO-ALLDAYEVENT:FALSE
SUMMARY:Applied Technology Center-Drive Thru Graduation 2020
DESCRIPTION:Montebello Unified School District\n\nDrive Thru Graduation's 2020\n\nApplied Technology Center High School
X-ALT-DESC;FMTTYPE=text/html:Montebello Unified School District<br />\nDrive Thru Graduation&rsquo\;s 2020<br />\nApplied Technology Center High School
LOCATION:Applied Technology Center High School 1200 W. Mine Ave. Montebello\, CA 90640
UID:e.1156.3704
SEQUENCE:3
DTSTAMP:20260422T224657Z
URL:https://business.montebellochamber.org/events/details/applied-technology-center-drive-thru-graduation-2020-3704
END:VEVENT

END:VCALENDAR
