BEGIN:VCALENDAR
VERSION:2.0
PRODID:-//ChamberMaster//Event Calendar 2.0//EN
METHOD:PUBLISH
X-PUBLISHED-TTL:P3D
REFRESH-INTERVAL:P3D
CALSCALE:GREGORIAN
BEGIN:VEVENT
DTSTART:20200616T160000Z
DTEND:20200616T160000Z
X-MICROSOFT-CDO-ALLDAYEVENT:FALSE
SUMMARY:Bell Gardens High School Drive-Thru 2020 Graduation
DESCRIPTION:Montebello Unified School District-Bell Gardens High School drive thru 2020 Graduation!
X-ALT-DESC;FMTTYPE=text/html:Montebello Unified School District-Bell Gardens High School drive thru 2020 Graduation!
LOCATION:Bell Gardens High School 6119 Agra Street Bell Gardens\, CA 90201
UID:e.1156.3705
SEQUENCE:3
DTSTAMP:20260422T224855Z
URL:https://business.montebellochamber.org/events/details/bell-gardens-high-school-drive-thru-2020-graduation-3705
END:VEVENT

END:VCALENDAR
