BEGIN:VCALENDAR
VERSION:2.0
PRODID:-//ChamberMaster//Event Calendar 2.0//EN
METHOD:PUBLISH
X-PUBLISHED-TTL:P3D
REFRESH-INTERVAL:P3D
CALSCALE:GREGORIAN
BEGIN:VEVENT
DTSTART:20191024T170000Z
DTEND:20191024T210000Z
X-MICROSOFT-CDO-ALLDAYEVENT:FALSE
SUMMARY:Beverly Hospital Farmer's Market
DESCRIPTION:Farmer's Market \n\nDelicious\, fresh\, and seasonal produce and specialty foods await at Beverly Hospital's weekly farmer's market.  Join us and the community as we celebrate the variety of goods our vendors have to offer!
X-ALT-DESC;FMTTYPE=text/html:Farmer&#39\;s Market&nbsp\;<br />\nDelicious\, fresh\, and seasonal produce and specialty foods await at Beverly Hospital&#39\;s weekly farmer&#39\;s market.&nbsp\; Join us and the community as we celebrate the variety of goods our vendors have to offer!
LOCATION:Beverly Hospital Corner of Poplar Ave & Beverly Blvd.
UID:e.1156.3451
SEQUENCE:3
DTSTAMP:20260422T130426Z
URL:https://business.montebellochamber.org/events/details/beverly-hospital-farmer-s-market-3451
END:VEVENT

END:VCALENDAR
