BEGIN:VCALENDAR
VERSION:2.0
PRODID:-//ChamberMaster//Event Calendar 2.0//EN
METHOD:PUBLISH
X-PUBLISHED-TTL:P3D
REFRESH-INTERVAL:P3D
CALSCALE:GREGORIAN
BEGIN:VEVENT
DTSTART:20151120T180000Z
DTEND:20151129T000000Z
X-MICROSOFT-CDO-ALLDAYEVENT:FALSE
SUMMARY:Black Friday Week Extravaganza
DESCRIPTION:Our Black Friday event is back...and it's BIGGER THAN EVER! It starts a week before Black Friday (so you can shop before all the holiday craziness) and continues for a week until the Saturday after Thanksgiving. It's all very hush-hush for now\, but here's a sneak peek at what you can look forward to:\n\n	LOADS OF NEW MERCHANDISE! - Just in time for this event!\n	INCREDIBLE BUYS! - You won't believe the prices on great gift ideas\, including diamond jewelry priced under $100!\n	FREE GIFTS WITH PURCHASE! - Newly released products that are on everyone's holiday wish list from FITNESS TRACKERS and WIRELESS HEADPHONES\, to SMART WATCHES and TABLETS! More than twice as many as last year with lower purchase minimums! \n\n\nSee the interactive digital catalog for this event at: http://flip.collectedconcepts.com/BFE4Goldex15
X-ALT-DESC;FMTTYPE=text/html:Our Black Friday event is back...and it&#39\;s BIGGER THAN EVER! It starts a week before Black Friday (so you can shop before all the holiday craziness) and continues for a week until the Saturday after Thanksgiving. It&#39\;s all very hush-hush for now\, but here&#39\;s a sneak peek at what you can look forward to:\n<ul>\n	<li style="text-align:justify"><em>LOADS OF NEW MERCHANDISE! </em>- Just in time for this event!</li>\n	<li style="text-align:justify"><em>INCREDIBLE BUYS! -</em> You won&#39\;t believe the prices on great gift ideas\, including diamond jewelry priced under $100!</li>\n	<li style="text-align:justify"><em>FREE GIFTS WITH PURCHASE! -</em> Newly released products that are on everyone&#39\;s holiday wish list from FITNESS TRACKERS and WIRELESS HEADPHONES\, to SMART WATCHES and TABLETS! More than twice as many as last year with lower purchase minimums!&nbsp\;</li>\n</ul>\n\n<p style="text-align:justify">See the interactive digital catalog for this event at: <span style="color:black"><span style="font-family:verdana\,sans-serif"><span style="font-size:10.0pt"><a href="http://flip.collectedconcepts.com/BFE4Goldex15" target="_blank">http://flip.collectedconcepts.com/BFE4Goldex15</a></span></span></span><br />\n&nbsp\;</p>\n\n<p>&nbsp\;</p>\n\n<p>&nbsp\;</p>\n
LOCATION:Goldex Fine Jewelry 2445 W. Whittier Blvd.\, Suite 201 Montebello\, CA 90640
UID:e.1156.1428
SEQUENCE:3
DTSTAMP:20260419T153424Z
URL:https://business.montebellochamber.org/events/details/black-friday-week-extravaganza-11-20-2015-1428
END:VEVENT

END:VCALENDAR
