BEGIN:VCALENDAR
VERSION:2.0
PRODID:-//ChamberMaster//Event Calendar 2.0//EN
METHOD:PUBLISH
X-PUBLISHED-TTL:P3D
REFRESH-INTERVAL:P3D
CALSCALE:GREGORIAN
BEGIN:VEVENT
DTSTART:20160122T013000Z
DTEND:20160122T033000Z
X-MICROSOFT-CDO-ALLDAYEVENT:FALSE
SUMMARY:Business Mixer - Hair Philosophy
DESCRIPTION:Business Mixer - Hair Philosophy\n\nHosted by Montebello Chamber of Commerce\n\nJoin us for the first Mixer of the New Year!
X-ALT-DESC;FMTTYPE=text/html:<strong>Business Mixer - Hair Philosophy</strong><br />\nHosted by Montebello Chamber of Commerce<br />\nJoin us for the first Mixer of the New Year!
LOCATION:Hair Philosophy 501 W. Whittier Blvd. Montebello\, CA 90640 (323) 726-9511
UID:e.1156.1445
SEQUENCE:3
DTSTAMP:20260419T170527Z
URL:https://business.montebellochamber.org/events/details/business-mixer-hair-philosophy-01-21-2016-1445
END:VEVENT

END:VCALENDAR
