BEGIN:VCALENDAR
VERSION:2.0
PRODID:-//ChamberMaster//Event Calendar 2.0//EN
METHOD:PUBLISH
X-PUBLISHED-TTL:P3D
REFRESH-INTERVAL:P3D
CALSCALE:GREGORIAN
BEGIN:VEVENT
DTSTART:20200708T170000Z
DTEND:20200708T180000Z
X-MICROSOFT-CDO-ALLDAYEVENT:FALSE
SUMMARY:Business Town Hall with Senator Bob Archuleta
DESCRIPTION:The Montebello Chamber of Commerce along with the chambers of commerce of Artesia\, Cerritos\, Downey\, Lakewood\, Norwalk\, Pico Rivera\, Santa Fe Springs and Whittier present\n\n\n\nBusiness Town Hall with Senator Bob Archuleta
X-ALT-DESC;FMTTYPE=text/html:The Montebello Chamber of Commerce along with the chambers of commerce of Artesia\, Cerritos\, Downey\, Lakewood\, Norwalk\, Pico Rivera\, Santa Fe Springs and Whittier present<br />\n<br />\n<strong>Business Town Hall with Senator Bob Archuleta</strong>
LOCATION:via Zoom (Click on link in left column to register)
UID:e.1156.3720
SEQUENCE:3
DTSTAMP:20260423T000847Z
URL:https://business.montebellochamber.org/events/details/business-town-hall-with-senator-bob-archuleta-3720
END:VEVENT

END:VCALENDAR
