BEGIN:VCALENDAR
VERSION:2.0
PRODID:-//ChamberMaster//Event Calendar 2.0//EN
METHOD:PUBLISH
X-PUBLISHED-TTL:P3D
REFRESH-INTERVAL:P3D
CALSCALE:GREGORIAN
BEGIN:VEVENT
DTSTART:20200322T170000Z
DTEND:20200323T030000Z
X-MICROSOFT-CDO-ALLDAYEVENT:FALSE
SUMMARY:CANCELLED: Feast of St. Joseph's Table
DESCRIPTION:**NOTE:  TO PROTECT PUBLIC HEALTH & SAFETY IN LIGHT OF COVID-19\, THIS EVENT HAS BEEN CANCELLED.\n\n\n\nSt. Benedict Church will be commemorating their Feast of St. Joseph\, Patron Saint of workers and families\, at the Parish Hall located at 1022 W. Cleveland Avenue\, in the City of Montebello\, on Saturday\, March 21st\, from 12:00 p.m. to 8:00 p.m. and Sunday\, March22nd\, from 10:00 a.m. to 8:00 p.m.  There will be a Free pasta meal on both days to everyone attending the special event.\n\n \n\n          The Feast will start on Saturday\, March 21st at 12:00 PM\, with the Holy Family\, depicted by the Montebello youth and wearing garments common to those biblical times\, seeking asylum and upon entering the Parish Hall they will take their place at the shrine and table\, at which time the shrine\, table and its contents will be blessed by St. Benedict's Pastor\, Fr. Michael Stechmann. Open house will follow the noon ceremony and everyone attending will receive a free plate of pasta\, a salad and bread roll.\n\n \n\nTraditional Italian foods\, Italian sausage sandwiches\, cannoli\, and other desserts will also be available for purchase.  Also available will be homemade breads\, cookies\, bottles of wine\, fresh fruits\, fresh vegetables\, fresh flowers\, and various nursery plants. \n\n \n\n          The Italian tradition reaches out especially to the poor and hungry in our community.  On this special occasion\, the St. Benedict's Italian Catholic Federation ("ICF") reach out to the Business community for a donation to help them give a free pasta meal to everyone who comes to visit the Feast of St. Joseph's Table. \n\nThis special celebration supports the parish and provides Scholarships for the school children.  As a St. Joseph Table sponsor of $100.00 or more an individual or a business will receive recognition prominently displayed at the event.
X-ALT-DESC;FMTTYPE=text/html:<em><u><span style="color:#B22222\;"><strong>**NOTE:&nbsp\; TO PROTECT PUBLIC HEALTH &amp\; SAFETY IN LIGHT OF COVID-19\, THIS EVENT HAS BEEN CANCELLED.</strong></span></u></em><br />\n<br />\n<span style="font-family:arial\,sans-serif\;">St. Benedict Church will be commemorating their Feast of St. Joseph</span>\, Patron Saint of workers and families\, at the Parish Hall located at 1022 W. Cleveland Avenue\, in the City of Montebello\, on Saturday\, March 21st\, from 12:00 p.m. to 8:00 p.m. and Sunday\, March22nd\, from 10:00 a.m. to 8:00 p.m.&nbsp\; There will be a Free pasta meal on both days to everyone attending the special event.<br />\n&nbsp\;<br />\n<span style="font-family:arial\,sans-serif\;">&nbsp\;&nbsp\;&nbsp\;&nbsp\;&nbsp\;&nbsp\;&nbsp\;&nbsp\;&nbsp\; The Feast will start on Saturday\, March 21st at 12:00 PM</span>\, with the Holy Family\, depicted by the Montebello youth and wearing garments common to those biblical times\, seeking asylum and upon entering the Parish Hall they will take their place at the shrine and table\, at which time the shrine\, table and its contents will be blessed by St. Benedict&#39\;s Pastor\, Fr. Michael Stechmann. Open house will follow the noon ceremony and everyone attending will receive a free plate of pasta\, a salad and bread roll.<br />\n&nbsp\;<br />\n<span style="font-family:arial\,sans-serif\;">Traditional Italian foods</span>\, Italian sausage sandwiches\, cannoli\, and other desserts will also be available for purchase.&nbsp\; Also available will be homemade breads\, cookies\, bottles of wine\, fresh fruits\, fresh vegetables\, fresh flowers\, and various nursery plants.&nbsp\;<br />\n&nbsp\;<br />\n<span style="font-family:arial\,sans-serif\;">&nbsp\;&nbsp\;&nbsp\;&nbsp\;&nbsp\;&nbsp\;&nbsp\;&nbsp\;&nbsp\; The Italian tradition reaches out especially to the poor and hungry in our community.&nbsp\; On this special occasion\, the St. Benedict&rsquo\;s Italian Catholic Federation (&ldquo\;ICF&rdquo\;) reach out to the Business community for a donation to help them give a free pasta meal to everyone who comes to visit the Feast of St. Joseph&rsquo\;s Table. </span><br />\n<span style="font-family:arial\,sans-serif\;">This special celebration supports the parish and provides Scholarships for the school children.&nbsp\; As a St. Joseph Table sponsor of $100.00 or more an individual or a business will receive recognition prominently displayed at the event.&nbsp\; </span><br />\n&nbsp\;
LOCATION:St. Benedict Church Hall 1022 W. Cleveland Avenue Montebello\, CA 90640
UID:e.1156.3557
SEQUENCE:3
DTSTAMP:20260422T190355Z
URL:https://business.montebellochamber.org/events/details/cancelled-feast-of-st-joseph-s-table-03-22-2020-3557
END:VEVENT

END:VCALENDAR
