BEGIN:VCALENDAR
VERSION:2.0
PRODID:-//ChamberMaster//Event Calendar 2.0//EN
METHOD:PUBLISH
X-PUBLISHED-TTL:P3D
REFRESH-INTERVAL:P3D
CALSCALE:GREGORIAN
BEGIN:VEVENT
DTSTART:20200625T003000Z
DTEND:20200625T023000Z
X-MICROSOFT-CDO-ALLDAYEVENT:FALSE
SUMMARY:Cantwell-Sacred Heart of Mary High School Class of 2020 Diploma Parade
DESCRIPTION:Cantwell-Sacred Heart of Mary High School presents Class of 2020 Diploma Pick-Up Parade!!Class of 2020 - We'll see you this Wednesday at the Repetto Parking Lot for our Diploma Pick-Up Parade! Feel free to decorate your cars to celebrate & be sure to come picture ready as we'll have a photographer on site to capture this memorable moment! Remember this is limited to one car per graduate.
X-ALT-DESC;FMTTYPE=text/html:Cantwell-Sacred Heart of Mary High School presents Class of 2020 Diploma Pick-Up Parade!!<span aria-live="polite" class="fbPhotosPhotoCaption" data-ft="{&quot\;tn&quot\;:&quot\;K&quot\;}" id="fbPhotoSnowliftCaption" tabindex="0"><span class="hasCaption">Class of 2020 - We&rsquo\;ll see you this Wednesday at the Repetto Parking Lot for our Diploma Pick-Up Parade! Feel free to decorate your cars to celebrate &amp\; be sure to come picture ready as we&rsquo\;ll have a photographer on site to capture this memorable moment! Remember this is limited to one car per graduate. </span></span><br />\n&nbsp\;
LOCATION:Cantwell-Sacred Heart of Mary High School (Repetto Parking lot) 329 N. Garfield Ave. Montebello\, CA 90640
UID:e.1156.3721
SEQUENCE:3
DTSTAMP:20260422T225202Z
URL:https://business.montebellochamber.org/events/details/cantwell-sacred-heart-of-mary-high-school-class-of-2020-diploma-parade-3721
END:VEVENT

END:VCALENDAR
