BEGIN:VCALENDAR
VERSION:2.0
PRODID:-//ChamberMaster//Event Calendar 2.0//EN
METHOD:PUBLISH
X-PUBLISHED-TTL:P3D
REFRESH-INTERVAL:P3D
CALSCALE:GREGORIAN
BEGIN:VEVENT
DTSTART:20201017T180000Z
DTEND:20201017T200000Z
X-MICROSOFT-CDO-ALLDAYEVENT:FALSE
SUMMARY:City Centennial Caravan
DESCRIPTION:Enjoy the show from the comfort of your own home as the City of Montebello re-envisions this annual event to keep everyone safe and healthy by traveling caravan-style around the community with decorated vehicles. You may see City Council members\, community partners\, and maybe even a horse or two. The full map and route will be shared soon so you know when and where to look as they motor across the City!
X-ALT-DESC;FMTTYPE=text/html:Enjoy the show from the comfort of your own home as the City of Montebello re-envisions this annual event to keep everyone safe and healthy by traveling caravan-style around the community with decorated vehicles. You may see City Council members\, community partners\, and maybe even a horse or two. The full map and route will be shared soon so you know when and where to look as they motor across the City!
LOCATION:Caravan map coming soon
UID:e.1156.3771
SEQUENCE:3
DTSTAMP:20260423T040720Z
URL:https://business.montebellochamber.org/events/details/city-centennial-caravan-10-17-2020-3771
END:VEVENT

END:VCALENDAR
