BEGIN:VCALENDAR
VERSION:2.0
PRODID:-//ChamberMaster//Event Calendar 2.0//EN
METHOD:PUBLISH
X-PUBLISHED-TTL:P3D
REFRESH-INTERVAL:P3D
CALSCALE:GREGORIAN
BEGIN:VEVENT
DTSTART:20160129T023000Z
DTEND:20160129T040000Z
X-MICROSOFT-CDO-ALLDAYEVENT:FALSE
SUMMARY:City Community Meeting - Park Needs Assessment
DESCRIPTION:The City of Montebello invites you to attend their community meeting for the Los Angeles Countywide Comprehensive Park & Recreation Needs Assessment
X-ALT-DESC;FMTTYPE=text/html:The City of Montebello invites you to attend their community meeting for the Los Angeles Countywide Comprehensive Park &amp\; Recreation Needs Assessment
LOCATION:Montebello Senior Center 115 S. Taylor Ave. Montebello\, CA 90640 323-887-4540
UID:e.1156.1446
SEQUENCE:3
DTSTAMP:20260419T170447Z
URL:https://business.montebellochamber.org/events/details/city-community-meeting-park-needs-assessment-01-28-2016-1446
END:VEVENT

END:VCALENDAR
