BEGIN:VCALENDAR
VERSION:2.0
PRODID:-//ChamberMaster//Event Calendar 2.0//EN
METHOD:PUBLISH
X-PUBLISHED-TTL:P3D
REFRESH-INTERVAL:P3D
CALSCALE:GREGORIAN
BEGIN:VEVENT
DTSTART:20160805T013000Z
DTEND:20160805T033000Z
X-MICROSOFT-CDO-ALLDAYEVENT:FALSE
SUMMARY:2016 - 07/7/16 City of Montebello Summer Concerts
DESCRIPTION:SAVE THE DATE!!\n\nCity of Montebello Summer Concert in the Park Series at Montebello Bandshell every Thursday beginning July 7th. Come out and enjoy great music\, food vendors\, informational vendors\, raffles and dancing.\n\nA family night out with fun for all!
X-ALT-DESC;FMTTYPE=text/html:SAVE THE DATE!!<br />\nCity of Montebello Summer Concert in the Park Series at Montebello Bandshell every Thursday beginning July 7th. Come out and enjoy great music\, food vendors\, informational vendors\, raffles and dancing.<br />\nA family night out with fun for all!&nbsp\;
LOCATION:Montebello City Park - Bandshell
UID:e.1156.1484
SEQUENCE:3
DTSTAMP:20260420T035955Z
URL:https://business.montebellochamber.org/events/details/city-of-montebello-summer-concerts-08-04-2016-1484
END:VEVENT

END:VCALENDAR
