BEGIN:VCALENDAR
VERSION:2.0
PRODID:-//ChamberMaster//Event Calendar 2.0//EN
METHOD:PUBLISH
X-PUBLISHED-TTL:P3D
REFRESH-INTERVAL:P3D
CALSCALE:GREGORIAN
BEGIN:VEVENT
DTSTART:20190919T013000Z
DTEND:20190919T030000Z
X-MICROSOFT-CDO-ALLDAYEVENT:FALSE
SUMMARY:Coffee with Councilman David Torres
DESCRIPTION:Join Councilman David Torres and the Montebello Chamber for coffee and conversations to help build an economic coalition between the business community and government.
X-ALT-DESC;FMTTYPE=text/html:Join Councilman David Torres and the Montebello Chamber for coffee and conversations to help build an economic coalition between the business community and government.
LOCATION:Marin Cafe 487 Washington Blvd. Montebello\, CA 90640
UID:e.1156.3435
SEQUENCE:3
DTSTAMP:20260422T102053Z
URL:https://business.montebellochamber.org/events/details/coffee-with-councilman-david-torres-3435
END:VEVENT

END:VCALENDAR
