BEGIN:VCALENDAR
VERSION:2.0
PRODID:-//ChamberMaster//Event Calendar 2.0//EN
METHOD:PUBLISH
X-PUBLISHED-TTL:P3D
REFRESH-INTERVAL:P3D
CALSCALE:GREGORIAN
BEGIN:VEVENT
DTSTART:20191005T163000Z
DTEND:20191005T180000Z
X-MICROSOFT-CDO-ALLDAYEVENT:FALSE
SUMMARY:Coffee with the Congresswoman Linda Sanchez
DESCRIPTION:Coffee with the Congresswoman Linda Sanchez
X-ALT-DESC;FMTTYPE=text/html:Coffee with the Congresswoman Linda Sanchez&nbsp\;
LOCATION:Hawaiian Gardens City Hall-Patio 21815 Pioneer Blvd. Hawaiian Gardens\, CA 90716
UID:e.1156.3434
SEQUENCE:3
DTSTAMP:20260422T143536Z
URL:https://business.montebellochamber.org/events/details/coffee-with-the-congresswoman-linda-sanchez-3434
END:VEVENT

END:VCALENDAR
