BEGIN:VCALENDAR
VERSION:2.0
PRODID:-//ChamberMaster//Event Calendar 2.0//EN
METHOD:PUBLISH
X-PUBLISHED-TTL:P3D
REFRESH-INTERVAL:P3D
CALSCALE:GREGORIAN
BEGIN:VEVENT
DTSTART:20160319T153000Z
DTEND:20160319T193000Z
X-MICROSOFT-CDO-ALLDAYEVENT:FALSE
SUMMARY:Community Beautification Day @ Reggie Rodriguez Park
DESCRIPTION:Join us in making a differance! \n\nCommunity Beautification Day @ Reggie Rodriguez Park\n\nVolunteers are needed!\n\nFamilies-Individuals-Businesses-Service Organizations \n\nAll are welcome!
X-ALT-DESC;FMTTYPE=text/html:Join us in making a differance!&nbsp\;<br />\nCommunity Beautification Day @ Reggie Rodriguez Park<br />\nVolunteers are needed!<br />\nFamilies-Individuals-Businesses-Service Organizations&nbsp\;<br />\nAll are welcome!<br />\n<br />\n&nbsp\;
LOCATION:Reggie Rodriguez Park 200 W. Mines Ave. Montebello\, CA 90640
UID:e.1156.1456
SEQUENCE:3
DTSTAMP:20260419T200849Z
URL:https://business.montebellochamber.org/events/details/community-beautification-day-reggie-rodriguez-park-03-19-2016-1456
END:VEVENT

END:VCALENDAR
