BEGIN:VCALENDAR
VERSION:2.0
PRODID:-//ChamberMaster//Event Calendar 2.0//EN
METHOD:PUBLISH
X-PUBLISHED-TTL:P3D
REFRESH-INTERVAL:P3D
CALSCALE:GREGORIAN
BEGIN:VEVENT
DTSTART:20200312T160000Z
DTEND:20200312T230000Z
X-MICROSOFT-CDO-ALLDAYEVENT:FALSE
SUMMARY:Community Blood Drive
DESCRIPTION:Donate Blood\, Help Save a Life at Community Blood Drive at Beverly Hospital
X-ALT-DESC;FMTTYPE=text/html:Donate Blood\, Help Save a Life at Community Blood Drive at Beverly Hospital
LOCATION:Beverly Hospital 309 W Beverly Blvd. Montebello\, CA 90640
UID:e.1156.3651
SEQUENCE:3
DTSTAMP:20260422T190141Z
URL:https://business.montebellochamber.org/events/details/community-blood-drive-3651
END:VEVENT

END:VCALENDAR
