BEGIN:VCALENDAR
VERSION:2.0
PRODID:-//ChamberMaster//Event Calendar 2.0//EN
METHOD:PUBLISH
X-PUBLISHED-TTL:P3D
REFRESH-INTERVAL:P3D
CALSCALE:GREGORIAN
BEGIN:VEVENT
DTSTART:20201023T010000Z
DTEND:20201023T030000Z
X-MICROSOFT-CDO-ALLDAYEVENT:FALSE
SUMMARY:D.E.S.I. Livestream Fundraiser & Sweepstakes
DESCRIPTION:Designated Exceptional Services for Independence (D.E.S.I.)  presents a virtual livestream fundraiser and sweepstake.  Fight hunger\, empower diversity\, support people with disabilities!  Prizes and giveaways.  Weekly drawings on social media.  Follow D.E.S.I.'s social media channels for more info.  All donations welcome.
X-ALT-DESC;FMTTYPE=text/html:Designated Exceptional Services for Independence (D.E.S.I.)&nbsp\; presents a virtual livestream fundraiser and sweepstake.&nbsp\; Fight hunger\, empower diversity\, support people with disabilities!&nbsp\; Prizes and giveaways.&nbsp\; Weekly drawings on social media.&nbsp\; Follow D.E.S.I.&#39\;s social media channels for more info.&nbsp\; All donations welcome.
LOCATION:Facebook: @desiserve Instagram & Twitter: @desi_serve
UID:e.1156.3776
SEQUENCE:3
DTSTAMP:20260423T040649Z
URL:https://business.montebellochamber.org/events/details/d-e-s-i-livestream-fundraiser-sweepstakes-3776
END:VEVENT

END:VCALENDAR
