BEGIN:VCALENDAR
VERSION:2.0
PRODID:-//ChamberMaster//Event Calendar 2.0//EN
METHOD:PUBLISH
X-PUBLISHED-TTL:P3D
REFRESH-INTERVAL:P3D
CALSCALE:GREGORIAN
BEGIN:VEVENT
DTSTART:20210409T230000Z
DTEND:20210410T010000Z
X-MICROSOFT-CDO-ALLDAYEVENT:FALSE
SUMMARY:Drive Thru Food Distribution
DESCRIPTION:In partnership with the Montebello Blue Hearts Charity and other local partners\, the City of Montebello will host a drive-thru food distribution at Grant Rea Park. Registration is required\, and spots are limited.
X-ALT-DESC;FMTTYPE=text/html:<span style="caret-color: rgb(38\, 38\, 38)\; color: rgb(38\, 38\, 38)\; font-family: -apple-system\, BlinkMacSystemFont\, &quot\;Segoe UI&quot\;\, Roboto\, Helvetica\, Arial\, sans-serif\; font-size: 14px\;">In partnership with the Montebello Blue Hearts Charity and other local partners\, the City of Montebello will host a drive-thru food distribution at Grant Rea Park. Registration is required\, and spots are limited.</span>
LOCATION:Grant Rea Park\, 600 Rea Dr. Montebello CA 90640
UID:e.1156.3861
SEQUENCE:3
DTSTAMP:20260423T123438Z
URL:https://business.montebellochamber.org/events/details/drive-thru-food-distribution-3861
END:VEVENT

END:VCALENDAR
