BEGIN:VCALENDAR
VERSION:2.0
PRODID:-//ChamberMaster//Event Calendar 2.0//EN
METHOD:PUBLISH
X-PUBLISHED-TTL:P3D
REFRESH-INTERVAL:P3D
CALSCALE:GREGORIAN
BEGIN:VEVENT
DTSTART:20210424T170000Z
DTEND:20210424T190000Z
X-MICROSOFT-CDO-ALLDAYEVENT:FALSE
SUMMARY:Drive Thru Pantry for Foster Youth
DESCRIPTION:Foster youth and their families as well as community members in-need are invited to a contactless drive thru event for food and essential items. Masks are required\, prepare to receive donations in the trunk of car.
X-ALT-DESC;FMTTYPE=text/html:Foster youth and their families as well as community members in-need are invited to a contactless drive thru event for food and essential items. Masks are required\, prepare to receive donations in the trunk of car.
LOCATION:Montebello High School\, 2100 W. Cleveland Ave\, Montebello CA 90640
UID:e.1156.3870
SEQUENCE:3
DTSTAMP:20260423T123710Z
URL:https://business.montebellochamber.org/events/details/drive-thru-pantry-for-foster-youth-3870
END:VEVENT

END:VCALENDAR
