BEGIN:VCALENDAR
VERSION:2.0
PRODID:-//ChamberMaster//Event Calendar 2.0//EN
METHOD:PUBLISH
X-PUBLISHED-TTL:P3D
REFRESH-INTERVAL:P3D
CALSCALE:GREGORIAN
BEGIN:VEVENT
DTSTART:20201024T170000Z
DTEND:20201024T210000Z
X-MICROSOFT-CDO-ALLDAYEVENT:FALSE
SUMMARY:Drug Take Back
DESCRIPTION:Bring in your expired or unused medications for safe disposal on National Drug Take Back Day in collaboration with the Baldwin Park Police Department and Kaiser Permanente.  No used syringes/lancets or hazardous/household waste.
X-ALT-DESC;FMTTYPE=text/html:Bring in your expired or unused medications for safe disposal on National Drug Take Back Day in collaboration with the Baldwin Park Police Department and Kaiser Permanente.&nbsp\; No used syringes/lancets or hazardous/household waste.
LOCATION:Kaiser Permanente Baldwin Park Medical Center 1011 Baldwin Park Blvd. Baldwin Park\, CA 91706 (near Patient Drop-off\, medial center entrance)
UID:e.1156.3780
SEQUENCE:3
DTSTAMP:20260423T040618Z
URL:https://business.montebellochamber.org/events/details/drug-take-back-3780
END:VEVENT

END:VCALENDAR
