BEGIN:VCALENDAR
VERSION:2.0
PRODID:-//ChamberMaster//Event Calendar 2.0//EN
METHOD:PUBLISH
X-PUBLISHED-TTL:P3D
REFRESH-INTERVAL:P3D
CALSCALE:GREGORIAN
BEGIN:VEVENT
DTSTART:20161015T160000Z
DTEND:20161015T230000Z
X-MICROSOFT-CDO-ALLDAYEVENT:FALSE
SUMMARY:E-Waste Collection Event
DESCRIPTION:E-Waste Collection Event
X-ALT-DESC;FMTTYPE=text/html:E-Waste Collection Event
LOCATION:City Hall Parking Log 1600 W. Beverly Blvd. Montebello\, CA 90640
UID:e.1156.1508
SEQUENCE:3
DTSTAMP:20260420T081339Z
URL:https://business.montebellochamber.org/events/details/e-waste-collection-event-1508
END:VEVENT

END:VCALENDAR
