BEGIN:VCALENDAR
VERSION:2.0
PRODID:-//ChamberMaster//Event Calendar 2.0//EN
METHOD:PUBLISH
X-PUBLISHED-TTL:P3D
REFRESH-INTERVAL:P3D
CALSCALE:GREGORIAN
BEGIN:VEVENT
DTSTART:20161016T160000Z
DTEND:20161016T230000Z
X-MICROSOFT-CDO-ALLDAYEVENT:FALSE
SUMMARY:E-Waste Collection Event
DESCRIPTION:E- Waste Collection Event
X-ALT-DESC;FMTTYPE=text/html:E- Waste Collection Event&nbsp\;&nbsp\;&nbsp\;&nbsp\;&nbsp\;&nbsp\;&nbsp\;&nbsp\;&nbsp\;&nbsp\;&nbsp\;&nbsp\;
LOCATION:City Hall Parking Lot 1600 W. Beverly Blvd. Montebello\, CA 90640
UID:e.1156.1509
SEQUENCE:3
DTSTAMP:20260420T063428Z
URL:https://business.montebellochamber.org/events/details/e-waste-collection-event-1509
END:VEVENT

END:VCALENDAR
