BEGIN:VCALENDAR
VERSION:2.0
PRODID:-//ChamberMaster//Event Calendar 2.0//EN
METHOD:PUBLISH
X-PUBLISHED-TTL:P3D
REFRESH-INTERVAL:P3D
CALSCALE:GREGORIAN
BEGIN:VEVENT
DTSTART:20151017T160000Z
DTEND:20151017T230000Z
X-MICROSOFT-CDO-ALLDAYEVENT:FALSE
SUMMARY:E-Waste Recycling Event
DESCRIPTION:Free Electronic Waste Recycling Event\n\n\n\nHosted By: The City of Montebello and the Montebello Chamber of Commerce
X-ALT-DESC;FMTTYPE=text/html:Free Electronic Waste Recycling Event<br />\n<br />\nHosted By: The City of Montebello and the Montebello Chamber of Commerce
LOCATION:Montebello City Hall (Parking Lot) 1600 W. Beverly Blvd. Montebello CA 90640
UID:e.1156.1423
SEQUENCE:3
DTSTAMP:20260419T124443Z
URL:https://business.montebellochamber.org/events/details/e-waste-recycling-event-10-17-2015-1423
END:VEVENT

END:VCALENDAR
