BEGIN:VCALENDAR
VERSION:2.0
PRODID:-//ChamberMaster//Event Calendar 2.0//EN
METHOD:PUBLISH
X-PUBLISHED-TTL:P3D
REFRESH-INTERVAL:P3D
CALSCALE:GREGORIAN
BEGIN:VEVENT
DTSTART:20160416T170000Z
DTEND:20160416T210000Z
X-MICROSOFT-CDO-ALLDAYEVENT:FALSE
SUMMARY:Earth Day "Think Green Keep it Clean"
DESCRIPTION:Family Fun for Everyone!\n\nCome out and enjoy Food Vendors\, Live Art demos\, E-Waste Colllection\, Healthy Eating demos\, Green Echibitors and much more!!
X-ALT-DESC;FMTTYPE=text/html:Family Fun for Everyone!<br />\nCome out and enjoy Food Vendors\, Live Art demos\, E-Waste Colllection\, Healthy Eating demos\, Green Echibitors and much more!!
LOCATION:Montebello City Park 1301 W. Whittier Blvd.
UID:e.1156.1470
SEQUENCE:3
DTSTAMP:20260419T214521Z
URL:https://business.montebellochamber.org/events/details/earth-day-think-green-keep-it-clean-04-16-2016-1470
END:VEVENT

END:VCALENDAR
