BEGIN:VCALENDAR
VERSION:2.0
PRODID:-//ChamberMaster//Event Calendar 2.0//EN
METHOD:PUBLISH
X-PUBLISHED-TTL:P3D
REFRESH-INTERVAL:P3D
CALSCALE:GREGORIAN
BEGIN:VEVENT
DTSTART:20210715T190000Z
DTEND:20210715T210000Z
X-MICROSOFT-CDO-ALLDAYEVENT:FALSE
SUMMARY:Federico Alemida Ribbon Cutting Ceremony
DESCRIPTION:Please join us for a Ribbon Cutting Celebration! Welcome a new chamber member to our community!  Members\, show your support for a fellow business owner\, network with other members and build and maintain those connections that will be all-important as we come through these challenging times.
X-ALT-DESC;FMTTYPE=text/html:Please join us for a Ribbon Cutting Celebration! Welcome a new chamber member to our community!&nbsp\; Members\, show your support for a fellow business owner\, network with other members and build and maintain those connections that will be all-important as we come through these challenging times.&nbsp\;
LOCATION:821 W. Whittier Blvd. Suite 200 Montebello\, CA 90640
UID:e.1156.3885
SEQUENCE:3
DTSTAMP:20260423T173857Z
URL:https://business.montebellochamber.org/events/details/federico-alemida-ribbon-cutting-ceremony-3885
END:VEVENT

END:VCALENDAR
