BEGIN:VCALENDAR
VERSION:2.0
PRODID:-//ChamberMaster//Event Calendar 2.0//EN
METHOD:PUBLISH
X-PUBLISHED-TTL:P3D
REFRESH-INTERVAL:P3D
CALSCALE:GREGORIAN
BEGIN:VEVENT
DTSTART:20210421T000000Z
DTEND:20210421T011500Z
X-MICROSOFT-CDO-ALLDAYEVENT:FALSE
SUMMARY:Financial Awareness Lecture: Annuity Basics - Beverly Hospital
DESCRIPTION:Beverly Hospital is pleased to be hosting a variety of classes on Zoom! Unless otherwise stated\, preregistration not required. . Find more information on this class and others at: https://beverly.org/events/ . Part of our Financial Awareness in Retirement Series\, join us in exploring how to manage your finances to ensure a relaxing and stress free retirement. . Annuity Basics: . Did you know that annuities can provide you with supplemental retirement income beyond traditional sources such as IRAs and 401(k)s? Learn the basics\, key features\, and payout options of annuities. . Presenter: Karen Lomas\, Financial Advisor
X-ALT-DESC;FMTTYPE=text/html:Beverly Hospital is pleased to be hosting a variety of classes on Zoom! Unless otherwise stated\, preregistration not required. . Find more information on this class and others at: https://beverly.org/events/ . Part of our Financial Awareness in Retirement Series\, join us in exploring how to manage your finances to ensure a relaxing and stress free retirement. . Annuity Basics: . Did you know that annuities can provide you with supplemental retirement income beyond traditional sources such as IRAs and 401(k)s? Learn the basics\, key features\, and payout options of annuities. . Presenter: Karen Lomas\, Financial Advisor
LOCATION:Online on Zoom!
UID:e.1156.3858
SEQUENCE:3
DTSTAMP:20260423T123659Z
URL:https://business.montebellochamber.org/events/details/financial-awareness-lecture-annuity-basics-beverly-hospital-3858
END:VEVENT

END:VCALENDAR
