BEGIN:VCALENDAR
VERSION:2.0
PRODID:-//ChamberMaster//Event Calendar 2.0//EN
METHOD:PUBLISH
X-PUBLISHED-TTL:P3D
REFRESH-INTERVAL:P3D
CALSCALE:GREGORIAN
BEGIN:VEVENT
DTSTART:20190308T020000Z
DTEND:20190308T033000Z
X-MICROSOFT-CDO-ALLDAYEVENT:FALSE
SUMMARY:Free CPR Class at Beverly Hospital
DESCRIPTION:Learn basics of CPR! Register for Beverly Hospital's Family and Friends CPR course happening on March 7th! Space is limited. \nFriends and Family CPR is for people who want to learn CPR but do not need a course completion card in CPR for their job. This course is ideal for community groups\, new parents\, grandparents\, babysitters\, and others interested in learning how to save a life. Space is limited. Reservation required.\n\nInstructor: Renee Barraza
X-ALT-DESC;FMTTYPE=text/html:<span id="react-root"><span title="Edited">Learn basics of CPR! Register for Beverly Hospital&#39\;s Family and Friends CPR course happening on March 7th! Space is limited. </span></span>\n<p>Friends and Family CPR is for people who want to learn CPR but do not need a course completion card in CPR for their job. This course is ideal for community groups\, new parents\, grandparents\, babysitters\, and others interested in learning how to save a life. Space is limited. Reservation required.</p>\n\n<p>Instructor: Renee Barraza</p>\n
LOCATION:Bevelry Hospital Tower Basement Rooms 309 W. Beverly Blvd. Montebello\, CA 90640
UID:e.1156.3249
SEQUENCE:3
DTSTAMP:20260422T022406Z
URL:https://business.montebellochamber.org/events/details/free-cpr-class-at-beverly-hospital-3249
END:VEVENT

END:VCALENDAR
