BEGIN:VCALENDAR
VERSION:2.0
PRODID:-//ChamberMaster//Event Calendar 2.0//EN
METHOD:PUBLISH
X-PUBLISHED-TTL:P3D
REFRESH-INTERVAL:P3D
CALSCALE:GREGORIAN
BEGIN:VEVENT
DTSTART:20190913T020000Z
DTEND:20190913T020000Z
X-MICROSOFT-CDO-ALLDAYEVENT:FALSE
SUMMARY:FREE Dia de los Muertos & Halloween Make-Up Classes
DESCRIPTION:FREE Dia de los Muertos & Halloween Make-Up Classes.  Jump on these classes in September to have more time to practice.
X-ALT-DESC;FMTTYPE=text/html:FREE Dia de los Muertos &amp\; Halloween Make-Up Classes.&nbsp\; Jump on these classes in September to have more time to practice.&nbsp\;&nbsp\;
LOCATION:Heavenly Choice 534 N. Montebello Blvd. Montebello\, CA 90640
UID:e.1156.3423
SEQUENCE:3
DTSTAMP:20260422T113809Z
URL:https://business.montebellochamber.org/events/details/free-dia-de-los-muertos-halloween-make-up-classes-3423
END:VEVENT

END:VCALENDAR
