BEGIN:VCALENDAR
VERSION:2.0
PRODID:-//ChamberMaster//Event Calendar 2.0//EN
METHOD:PUBLISH
X-PUBLISHED-TTL:P3D
REFRESH-INTERVAL:P3D
CALSCALE:GREGORIAN
BEGIN:VEVENT
DTSTART:20200604T043000Z
DTEND:20200603T230000Z
X-MICROSOFT-CDO-ALLDAYEVENT:FALSE
SUMMARY:FREE GRAD PHOTO OPPORTUNITY-Orbit Event Rentals
DESCRIPTION:Orbit Event Rentals wants to give back to the community and is providing 2020 Graduates with one free digital picture. Upgrade to a 15 minute session for $10. We will have two backdrops to choose from.  Social distancing standards will be strictly enforced. Please arrive wearing appropriate masks.
X-ALT-DESC;FMTTYPE=text/html:<span>Orbit Event Rentals wants to give back to the community and is providing 2020 Graduates with one free digital picture. Upgrade to a 15 minute session for $10. We will have two backdrops to choose from.&nbsp\; Social distancing standards will be strictly enforced. Please arrive wearing appropriate masks.</span>\n<div class="Igw0E     IwRSH      eGOV_         _4EzTm   pjcA_                                                         aGBdT                                                  ">\n<div class="_7UhW9  PIoXz       MMzan   _0PwGv       uL8Hv         ">&nbsp\;</div>\n</div>\n
LOCATION:Orbit Event Rentals 9525 Sorensen Ave Santa Fe Springs\, CA 90670
UID:e.1156.3685
SEQUENCE:3
DTSTAMP:20260422T225405Z
URL:https://business.montebellochamber.org/events/details/free-grad-photo-opportunity-orbit-event-rentals-3685
END:VEVENT

END:VCALENDAR
