BEGIN:VCALENDAR
VERSION:2.0
PRODID:-//ChamberMaster//Event Calendar 2.0//EN
METHOD:PUBLISH
X-PUBLISHED-TTL:P3D
REFRESH-INTERVAL:P3D
CALSCALE:GREGORIAN
BEGIN:VEVENT
DTSTART:20210225T180000Z
DTEND:20210226T000000Z
X-MICROSOFT-CDO-ALLDAYEVENT:FALSE
SUMMARY:Free PPE for Small Businesses Distribution
DESCRIPTION:The Gateway Chambers Alliance\, of which the Montebello Chamber is an active member\, has partnered with PPE Unite to make distribution events for free personal protective equipment more accessible to local businesses.  Small businesses in LA County are eligible for one-time access to a supply of face shields\, face masks and hand sanitizer to help them in safely reopening and conducting their businesses amid the COVID-19 pandemic.  Reservations are required.
X-ALT-DESC;FMTTYPE=text/html:The Gateway Chambers Alliance\, of which the Montebello Chamber is an active member\, has partnered with PPE Unite to make distribution events for free personal protective equipment more accessible to local businesses.&nbsp\; Small businesses in LA County are eligible for one-time access to a supply of face shields\, face masks and hand sanitizer to help them in safely reopening and conducting their businesses amid the COVID-19 pandemic.&nbsp\; Reservations are required.
LOCATION:Lakewood Center 4720 Candlewood St. Lakewood\, CA 90712
UID:e.1156.3844
SEQUENCE:3
DTSTAMP:20260423T095345Z
URL:https://business.montebellochamber.org/events/details/free-ppe-for-small-businesses-distribution-3844
END:VEVENT

END:VCALENDAR
