BEGIN:VCALENDAR
VERSION:2.0
PRODID:-//ChamberMaster//Event Calendar 2.0//EN
METHOD:PUBLISH
X-PUBLISHED-TTL:P3D
REFRESH-INTERVAL:P3D
CALSCALE:GREGORIAN
BEGIN:VEVENT
DTSTART:20201011T230000Z
DTEND:20201012T010000Z
X-MICROSOFT-CDO-ALLDAYEVENT:FALSE
SUMMARY:Friends of MUSD Service to Education Awards
DESCRIPTION:The Friends of the Montebello Unified School District Foundation (FMUSDF) will hold its annual  Service to Education Awards event on Sunday\, October 11th at 4:00 p.m.   Due to these extraordinary times\, this year's program will be held as a virtual streaming event\, and will honor two groups of district personnel who exemplify this year's theme: "Extraordinary Times\, Extraordinary Efforts\, Extraordinary People."\n\n\n\nThe first group to be honored is the staff of the MUSD Nutrition Services Department who\, with the support of the Transportation Department\, have acted as true heroes on the front lines.  Under very restrictive and changing conditions\, they safely and efficiently provided nutritious meals and excellent customer service to parents for their children staying at home during the school closures due to the COVID-19 pandemic.  \n\n\n\nThe second group of honorees is the MUSD personnel who have acted to support the implementation of instructional technology and the use of Chromebooks in support of distance learning while schools pivot to provide education through virtual platforms.  The work of these "Google Ambassadors" has been a timely and valuable service.\n\n\n\nThe program will include:\n\n	Recognition of the Nutrition Services staff and Google Ambassadors \n	Recorded musical performances by MUSD students\n	Introduction of recent scholarship recipients of the FMUSDF\n	Online Auction\n\nThe funds raised during the auction will provide student scholarships and help to support the performing arts and other educational programs and needs of the MUSD.  The auction will include many fun and valuable items donated just for this event\, including unique art\, gift baskets and personal enrichment opportunities.  \n\nSince 2015\, the FMUSDF has awarded over $180\,000 to MUSD schools and students.  In challenging times like these\, your support means more than ever.\n\nPlease visit the FMUSDF website at friendsofmusd.org or contact the foundation at fmusdfoundation@gmail.com for more information or to donate to this worthy cause and the future of the students in our public schools.\n\n\n\n\n\nPlease save the date: Sunday\, October 11\, 2020\, for your opportunity to support the students of the Montebello Unified School District at the Annual Service To Education Awards Program.  This is produced by Friends of MUSD Foundation\, and the primary fundraiser of the foundation. \n\n Since 2015 the FMUSDF has awarded over $180\,000 to MUSD schools and students\, primarily scholarships\, but also to support field trips\, the performing arts and other K-12 school needs.  In challenging times like these your support means more than ever.  \n\nThis year's theme is "Extraordinary Times\, Extraordinary Efforts\, Extraordinary People." \n\nYou are welcomed to be extraordinary!  Your participation will provide a positive impact!  More information will be forthcoming or\, you may contact the Friends of MUSD Foundation at fmusdfoundation@gmail.com.\n\n Join your community on October 11\, 2020 as we continue to invest in the each student?s future and support of school extracurricular programming.
X-ALT-DESC;FMTTYPE=text/html:<span style="font-size:12.0pt\;">The Friends of the Montebello Unified School District Foundation (FMUSDF) will hold its annual &nbsp\;Service to Education Awards event on Sunday\, October 11<sup>th</sup> at 4:00 p.m.&nbsp\;&nbsp\; Due to these extraordinary times\, this year&rsquo\;s program will be held as a virtual streaming event\, and will honor two groups of district personnel who exemplify this year&rsquo\;s theme: &ldquo\;Extraordinary Times\, Extraordinary Efforts\, Extraordinary People.&rdquo\;</span><br />\n<br />\n<span style="font-size:12.0pt\;">The first group to be honored is the staff of the MUSD Nutrition Services Department who\, with the support of the Transportation Department\, have acted as true heroes on the front lines.&nbsp\; Under very restrictive and changing conditions\, they safely and efficiently provided nutritious meals and excellent customer service to parents for their children staying at home during the school closures due to the COVID-19 pandemic.&nbsp\; </span><br />\n<br />\n<span style="font-size:12.0pt\;">The second group of honorees is the MUSD personnel who have acted to support the implementation of instructional technology and the use of Chromebooks in support of distance learning while schools pivot to provide education through virtual platforms.&nbsp\; The work of these &ldquo\;Google Ambassadors&rdquo\; has been a timely and valuable service.</span><br />\n<br />\n<span style="font-size:12.0pt\;">The program will include:</span>\n<ul>\n	<li><span style="font-size:12.0pt\;">Recognition of the Nutrition Services staff and Google Ambassadors </span></li>\n	<li><span style="font-size:12.0pt\;">Recorded musical performances by MUSD students</span></li>\n	<li><span style="font-size:12.0pt\;">Introduction of recent scholarship recipients of the FMUSDF</span></li>\n	<li><span style="font-size:12.0pt\;">Online Auction</span></li>\n</ul>\n<span style="font-size:12.0pt\;">The funds raised during the auction will provide student scholarships and help to support the performing arts and other educational programs and needs of the MUSD.&nbsp\; The auction will include many fun and valuable items donated just for this event\, including unique art\, gift baskets and personal enrichment opportunities.&nbsp\; </span><br />\n<span style="font-size:12.0pt\;">Since 2015\, the FMUSDF has awarded over $180\,000 to MUSD schools and students.&nbsp\; In challenging times like these\, your support means more than ever.</span><br />\n<span style="font-size:12.0pt\;">Please visit the FMUSDF website at </span><a href="mailto:friendsofmusd.org"><span style="font-size:12.0pt\;">friendsofmusd.org</span></a><span style="font-size:12.0pt\;"> or contact the foundation at </span><a href="mailto:fmusdfoundation@gmail.com"><span style="font-size:12.0pt\;">fmusdfoundation@gmail.com</span></a><span style="font-size:12.0pt\;"> for more information or to donate to this worthy cause and the future of the students in our public schools.</span><br />\n<br />\n<br />\n<span style="font-size:12.0pt\;">Please save the date: Sunday\, October 11\, 2020\, for your opportunity to support the students of the Montebello Unified School District at the Annual Service To Education Awards Program.&nbsp\; This is produced by Friends of MUSD Foundation\, and the primary fundraiser of the foundation. </span><br />\n<span style="font-size:12.0pt\;">&nbsp\;Since 2015 the FMUSDF has awarded over $180\,000 to MUSD schools and students\, primarily scholarships\, but also to support field trips\, the performing arts and other K-12 school needs.&nbsp\; In challenging times like these your support means more than ever. &nbsp\;</span><br />\n<span style="font-size:12.0pt\;">This year&#39\;s theme is &quot\;Extraordinary Times\, Extraordinary Efforts\, Extraordinary People.&quot\; </span><br />\n<span style="font-size:12.0pt\;">You are welcomed to be extraordinary!&nbsp\; Your participation will provide a positive impact!&nbsp\; More information will be forthcoming or\, you may contact the Friends of MUSD Foundation at </span><a href="mailto:fmusdfoundation@gmail.com"><span style="font-size:12.0pt\;">fmusdfoundation@gmail.com</span></a><span style="font-size:12.0pt\;">.</span><br />\n<span style="font-size:12.0pt\;">&nbsp\;Join your community on October 11\, 2020 as we continue to invest in the each student?s future and support of school extracurricular programming.</span><br />\n&nbsp\;
LOCATION:Online Event
UID:e.1156.3732
SEQUENCE:3
DTSTAMP:20260423T040951Z
URL:https://business.montebellochamber.org/events/details/friends-of-musd-service-to-education-awards-3732
END:VEVENT

END:VCALENDAR
