BEGIN:VCALENDAR
VERSION:2.0
PRODID:-//ChamberMaster//Event Calendar 2.0//EN
METHOD:PUBLISH
X-PUBLISHED-TTL:P3D
REFRESH-INTERVAL:P3D
CALSCALE:GREGORIAN
BEGIN:VEVENT
DTSTART:20210227T213000Z
DTEND:20210227T223000Z
X-MICROSOFT-CDO-ALLDAYEVENT:FALSE
SUMMARY:Garfield Health Center HEPATITIS B WEBINAR
DESCRIPTION:Garfield Health Center providing informational webinar on Hepatitis B.  Discuss the dangers and stigmas of Hepatitis B and ways to combat the illness.
X-ALT-DESC;FMTTYPE=text/html:Garfield Health Center providing informational webinar on Hepatitis B.&nbsp\; Discuss the dangers and stigmas of Hepatitis B and ways to combat the illness.&nbsp\;
LOCATION:Via Zoom English Session
UID:e.1156.3838
SEQUENCE:3
DTSTAMP:20260423T100140Z
URL:https://business.montebellochamber.org/events/details/garfield-health-center-hepatitis-b-webinar-3838
END:VEVENT

END:VCALENDAR
