BEGIN:VCALENDAR
VERSION:2.0
PRODID:-//ChamberMaster//Event Calendar 2.0//EN
METHOD:PUBLISH
X-PUBLISHED-TTL:P3D
REFRESH-INTERVAL:P3D
CALSCALE:GREGORIAN
BEGIN:VEVENT
DTSTART:20190518T160000Z
DTEND:20190520T030000Z
X-MICROSOFT-CDO-ALLDAYEVENT:FALSE
SUMMARY:Genius Stars (7 to 12 years old)
DESCRIPTION:VIVEnow Foundation is hosting this incredible training that is specifically desgined for children between the ages of 7 to12 years old. Our talented and gifted Coaches utilize love\, creativity\, and imagination to help your children gain and enhance their leadership\, teamwork\, and socialization skills so they can become the leaders they were born to be.\n\n \n\n       La Fundaci n VIVEnow acoge esta incre ble capacitaci n especialmente dise ada para ni os de entre 7 y 12 a os. Nuestros entrenadores talentosos y dotados utilizan el amor\, la creatividad y la imaginaci n para apoyar a sus hijos a obtener y mejorar su liderazgo\, trabajo en equipo y habilidades de socializaci n para que puedan convertirse en los l deres en los que nacieron para ser.
X-ALT-DESC;FMTTYPE=text/html:&nbsp\; &nbsp\; &nbsp\; VIVEnow Foundation is hosting this incredible training that is specifically desgined for children between the ages of 7 to12 years old. Our talented and gifted Coaches utilize love\, creativity\, and imagination to help your children gain and enhance their leadership\, teamwork\, and socialization skills so they can become the leaders they were born to be.<br />\n&nbsp\;\n<pre style="text-align:left">\n<span style="font-family:arial\,helvetica\,sans-serif">       La Fundaci&oacute\;n VIVEnow acoge esta incre&iacute\;ble capacitaci&oacute\;n especialmente dise&ntilde\;ada para ni&ntilde\;os de entre 7 y 12 a&ntilde\;os. Nuestros entrenadores talentosos y dotados utilizan el amor\, la creatividad y la imaginaci&oacute\;n para apoyar a sus hijos a obtener y mejorar su liderazgo\, trabajo en equipo y habilidades de socializaci&oacute\;n para que puedan convertirse en los l&iacute\;deres en los que nacieron para ser.</span></pre>\n
LOCATION:VIVEnow Foundation 116 East Whittier Blvd. Montebello\, CA 90640
UID:e.1156.3294
SEQUENCE:3
DTSTAMP:20260422T050922Z
URL:https://business.montebellochamber.org/events/details/genius-stars-7-to-12-years-old-3294
END:VEVENT

END:VCALENDAR
