BEGIN:VCALENDAR
VERSION:2.0
PRODID:-//ChamberMaster//Event Calendar 2.0//EN
METHOD:PUBLISH
X-PUBLISHED-TTL:P3D
REFRESH-INTERVAL:P3D
CALSCALE:GREGORIAN
BEGIN:VEVENT
DTSTART:20191101T000000Z
DTEND:20191101T040000Z
X-MICROSOFT-CDO-ALLDAYEVENT:FALSE
SUMMARY:Halloween Festivities
DESCRIPTION:City of Montebello Recreation and Community Services\n\nJoin us for some Halloween Festivities!\n\nCostume Contest - Music - Jumpers - Haunted House - Raffles - Food Vendors
X-ALT-DESC;FMTTYPE=text/html:City of Montebello Recreation and Community Services<br />\nJoin us for some Halloween Festivities!<br />\nCostume Contest - Music - Jumpers - Haunted House - Raffles - Food Vendors
LOCATION:236 George Hensel Drive Montebello\, CA 90640
UID:e.1156.3228
SEQUENCE:3
DTSTAMP:20260422T130010Z
URL:https://business.montebellochamber.org/events/details/halloween-festivities-3228
END:VEVENT

END:VCALENDAR
