BEGIN:VCALENDAR
VERSION:2.0
PRODID:-//ChamberMaster//Event Calendar 2.0//EN
METHOD:PUBLISH
X-PUBLISHED-TTL:P3D
REFRESH-INTERVAL:P3D
CALSCALE:GREGORIAN
BEGIN:VEVENT
DTSTART:20201031T013000Z
DTEND:20201031T040000Z
X-MICROSOFT-CDO-ALLDAYEVENT:FALSE
SUMMARY:Haunted Train Ride
DESCRIPTION:CITY OF MONTEBELLO HAUNTED TRAIN RIDE!! \n\n\n\nDo you dare embark on Montebello's first ever Haunted Train Ride? This spooky experience will take riders on a bone-chilling journey through winding paths and thrilling frights. Meant for visitors ages 8 years or older\, we do not recommend for young children. \n\n\n\nIn compliance with Los Angeles County COVID-19 precautions\, all guests will be required to wear a face mask while on premise and on ride\, be seated with their household for your safety and our scary costumed staff. Monitors will be stationed on ride route to ensure COVID-19 safety compliance. \n\n\n\nWARNING: Please be aware that this experience includes a variety of special light effects (darkness\, strobes\, and haze) sound and image effects and is not recommended for individuals that may be pregnant\, are sensitive to sensory excess\, individuals that suffer from heart conditions\, high blood pressure\, seizures\, asthma\, and other health conditions that may be aggravated with this experience.
X-ALT-DESC;FMTTYPE=text/html:<div dir="auto">\n<div class="ecm0bbzt hv4rvrfc ihqw7lf3 dati1w0a" data-ad-comet-preview="message" data-ad-preview="message" id="jsc_c_lg">\n<div class="j83agx80 cbu4d94t ew0dbk1b irj2b8pg">\n<div class="qzhwtbm6 knvmm38d">\n<div class="kvgmc6g5 cxmmr5t8 oygrvhab hcukyx3x c1et5uql ii04i59q">\n<div dir="auto" style="text-align: start\;"><span class="d2edcug0 hpfvmrgz qv66sw1b c1et5uql rrkovp55 a8c37x1j keod5gw0 nxhoafnm aigsh9s9 d3f4x2em fe6kdd0r mau55g9w c8b282yb iv3no6db jq4qci2q a3bd9o3v knj5qynh oo9gr5id hzawbc8m" dir="auto">CITY OF MONTEBELLO HAUNTED TRAIN RIDE!! </span></div>\n</div>\n\n<div class="o9v6fnle cxmmr5t8 oygrvhab hcukyx3x c1et5uql ii04i59q">\n<div dir="auto" style="text-align: start\;"><span class="d2edcug0 hpfvmrgz qv66sw1b c1et5uql rrkovp55 a8c37x1j keod5gw0 nxhoafnm aigsh9s9 d3f4x2em fe6kdd0r mau55g9w c8b282yb iv3no6db jq4qci2q a3bd9o3v knj5qynh oo9gr5id hzawbc8m" dir="auto">Do you dare embark on Montebello&rsquo\;s first ever Haunted Train Ride? This spooky experience will take riders on a bone-chilling journey through winding paths and thrilling frights. Meant for visitors ages 8 years or older\, we do not recommend for young children. </span></div>\n</div>\n\n<div class="o9v6fnle cxmmr5t8 oygrvhab hcukyx3x c1et5uql ii04i59q">\n<div dir="auto" style="text-align: start\;"><span class="d2edcug0 hpfvmrgz qv66sw1b c1et5uql rrkovp55 a8c37x1j keod5gw0 nxhoafnm aigsh9s9 d3f4x2em fe6kdd0r mau55g9w c8b282yb iv3no6db jq4qci2q a3bd9o3v knj5qynh oo9gr5id hzawbc8m" dir="auto">In compliance with Los Angeles County COVID-19 precautions\, all guests will be required to wear a face mask while on premise and on ride\, be seated with their household for your safety and our scary costumed staff. Monitors will be stationed on ride route to ensure COVID-19 safety compliance. </span></div>\n</div>\n\n<div class="o9v6fnle cxmmr5t8 oygrvhab hcukyx3x c1et5uql ii04i59q">\n<div dir="auto" style="text-align: start\;"><span class="d2edcug0 hpfvmrgz qv66sw1b c1et5uql rrkovp55 a8c37x1j keod5gw0 nxhoafnm aigsh9s9 d3f4x2em fe6kdd0r mau55g9w c8b282yb iv3no6db jq4qci2q a3bd9o3v knj5qynh oo9gr5id hzawbc8m" dir="auto">WARNING: Please be aware that this experience includes a variety of special light effects (darkness\, strobes\, and haze) sound and image effects and is not recommended for individuals that may be pregnant\, are sensitive to sensory excess\, individuals that suffer from heart conditions\, high blood pressure\, seizures\, asthma\, and other health conditions that may be aggravated with this experience.</span></div>\n</div>\n</div>\n</div>\n</div>\n</div>\n
LOCATION:Quiet Cannon 901 Via San Clemente Montebello\, CA 90640
UID:e.1156.3782
SEQUENCE:3
DTSTAMP:20260423T040558Z
URL:https://business.montebellochamber.org/events/details/haunted-train-ride-3782
END:VEVENT

END:VCALENDAR
