BEGIN:VCALENDAR
VERSION:2.0
PRODID:-//ChamberMaster//Event Calendar 2.0//EN
METHOD:PUBLISH
X-PUBLISHED-TTL:P3D
REFRESH-INTERVAL:P3D
CALSCALE:GREGORIAN
BEGIN:VEVENT
DTSTART:20151217T010000Z
DTEND:20151217T040000Z
X-MICROSOFT-CDO-ALLDAYEVENT:FALSE
SUMMARY:Jingle N' Mingle Toy Drive Mixer
DESCRIPTION:Jingle N' Mingle Toy Drive Mixer    \n\nProudly Hosted & Sponsored by\n\nCrowne Plaza Hotel & The Commerce Casino\n\n\n\nCash Bar / Dancing / Appetizers / 50/50\n\n\n\nParticipating Chambers: Montebello Chamber\, Bell Gardens Chamber\, Commerce Industrial Council Chamber\, and Pico Rivera Chamber
X-ALT-DESC;FMTTYPE=text/html:Jingle N&#39\; Mingle Toy Drive Mixer&nbsp\;&nbsp\;&nbsp\;&nbsp\;<br />\nProudly Hosted &amp\; Sponsored by<br />\nCrowne Plaza Hotel &amp\; The Commerce Casino<br />\n<br />\nCash Bar / Dancing / Appetizers / 50/50<br />\n<br />\nParticipating Chambers: Montebello Chamber\, Bell Gardens Chamber\, Commerce Industrial Council Chamber\, and Pico Rivera Chamber
LOCATION:Crowne Plaza Hotel at Commerce Casino 6121 E. Telegraph Rd.\, Commerce CA 90040 Plenty of FREE parking or valet for $2.00 (323) 728-3600
UID:e.1156.1439
SEQUENCE:3
DTSTAMP:20260419T153614Z
URL:https://business.montebellochamber.org/events/details/jingle-n-mingle-toy-drive-mixer-12-16-2015-1439
END:VEVENT

END:VCALENDAR
